BEGIN:VCALENDAR
VERSION:2.0
PRODID:-//wp-events-plugin.com//7.2.3.1//EN
TZID:America/Chicago
X-WR-TIMEZONE:America/Chicago
BEGIN:VEVENT
UID:9377@icspcatholic.com
DTSTART;TZID=America/Chicago;VALUE=DATE:20250802
DTEND;TZID=America/Chicago;VALUE=DATE:20250806
DTSTAMP:20250710T143825Z
URL:https://icspcatholic.com/events/rectory-open-house-upce25/
SUMMARY:Rectory Open House
DESCRIPTION:
ATTACH;FMTTYPE=image/jpeg:https://icspcatholic.com/wp-content/uploads/asse
 ts/events/2025_rectory_openhouse_web.webp
CATEGORIES:Upcoming Events
END:VEVENT
BEGIN:VTIMEZONE
TZID:America/Chicago
X-LIC-LOCATION:America/Chicago
BEGIN:DAYLIGHT
DTSTART:20250309T030000
TZOFFSETFROM:-0600
TZOFFSETTO:-0500
TZNAME:CDT
END:DAYLIGHT
END:VTIMEZONE
END:VCALENDAR